BEGIN:VCALENDAR
VERSION:2.0
PRODID:-//cuyc - ECPv6.15.20//NONSGML v1.0//EN
CALSCALE:GREGORIAN
METHOD:PUBLISH
X-WR-CALNAME:cuyc
X-ORIGINAL-URL:https://cuyc.de
X-WR-CALDESC:Veranstaltungen für cuyc
REFRESH-INTERVAL;VALUE=DURATION:PT1H
X-Robots-Tag:noindex
X-PUBLISHED-TTL:PT1H
BEGIN:VTIMEZONE
TZID:Europe/Berlin
BEGIN:DAYLIGHT
TZOFFSETFROM:+0100
TZOFFSETTO:+0200
TZNAME:CEST
DTSTART:20250330T010000
END:DAYLIGHT
BEGIN:STANDARD
TZOFFSETFROM:+0200
TZOFFSETTO:+0100
TZNAME:CET
DTSTART:20251026T010000
END:STANDARD
BEGIN:DAYLIGHT
TZOFFSETFROM:+0100
TZOFFSETTO:+0200
TZNAME:CEST
DTSTART:20260329T010000
END:DAYLIGHT
BEGIN:STANDARD
TZOFFSETFROM:+0200
TZOFFSETTO:+0100
TZNAME:CET
DTSTART:20261025T010000
END:STANDARD
BEGIN:DAYLIGHT
TZOFFSETFROM:+0100
TZOFFSETTO:+0200
TZNAME:CEST
DTSTART:20270328T010000
END:DAYLIGHT
BEGIN:STANDARD
TZOFFSETFROM:+0200
TZOFFSETTO:+0100
TZNAME:CET
DTSTART:20271031T010000
END:STANDARD
END:VTIMEZONE
BEGIN:VEVENT
DTSTART;TZID=Europe/Berlin:20260425T120000
DTEND;TZID=Europe/Berlin:20260425T130000
DTSTAMP:20260425T044037
CREATED:20260324T121411Z
LAST-MODIFIED:20260324T121657Z
UID:4098-1777118400-1777122000@cuyc.de
SUMMARY:Grohn CleanUp
DESCRIPTION:Start: 12 Uhr beim Netto\, Friedrich-Humbert-Straße 125 mit Katja\, Maren und Heike H. \n\n\n\nWohnst du in Grohn und willst etwas Gutes für deinen Stadtteil tun? Ist dir Umweltschutz wichtig? Oder hast du einfach Lust\, ganz unkompliziert nette Leute kennenzulernen? Dann mach mit beim CleanUp in Grohn! \n\n\n\nUnser Team Nord ist bestens ausgestattet mit Müllsäcken\, Handschuhen und Müllzangen von der Bremer Stadtreinigung. Du brauchst also gar nichts mitbringen außer gute Laune und eine Portion Tatendrang. \n\n\n\nWir freuen uns über Unterstützung! Mach bei den CleanUps mit\, so lange und sooft du magst. Falls du Interesse hast\, CleanUps in anderen Stadtteilen im Bremer Norden zu starten\, melde dich gern bei unseren Stadtteilpatinnen oder schreib an kontakt@cuyc.de. Gemeinsam bauen wir unser Netzwerk aus\, damit wir noch mehr öffentliche Sammelaktionen anbieten können.
URL:https://cuyc.de/event/grohn-cleanup-2026-04-25/
LOCATION:Grohn CleanUp\, Netto\, Bremen Grohn
ORGANIZER;CN="Katja%2C Maren und Heike H.":MAILTO:kontakt@cuyc.de
END:VEVENT
BEGIN:VEVENT
DTSTART;TZID=Europe/Berlin:20260426T110000
DTEND;TZID=Europe/Berlin:20260426T130000
DTSTAMP:20260425T044037
CREATED:20260324T122601Z
LAST-MODIFIED:20260324T122703Z
UID:4106-1777201200-1777208400@cuyc.de
SUMMARY:Neustadt CleanUp
DESCRIPTION:Start: 11 Uhr / Delmemarkt\, Pappelstraße / mit Nina und Florian \n\n\n\nNicht unser Müll\, aber unser Planet!  \n\n\n\nWir sammeln gemeinsam Müll\, für eine saubere und l(i)ebenswerte Neustadt.
URL:https://cuyc.de/event/neustadt-cleanup-2026-04-26/
LOCATION:Delmemarkt\, Delmestraße\, Bremen
ATTACH;FMTTYPE=image/jpeg:https://cuyc.de/wp-content/uploads/2025/06/Kantstr.-Fr.-Bergmann-1-scaled.jpg
ORGANIZER;CN="Nina und Florain":MAILTO:kontakt@cuyc.de
END:VEVENT
BEGIN:VEVENT
DTSTART;TZID=Europe/Berlin:20260428T150000
DTEND;TZID=Europe/Berlin:20260428T170000
DTSTAMP:20260425T044037
CREATED:20260222T163313Z
LAST-MODIFIED:20260327T122539Z
UID:4025-1777388400-1777395600@cuyc.de
SUMMARY:Kippen-CleanUp im Viertel
DESCRIPTION:Treffpunkt: Spielwaren Wichlein\, Ostertorsteinweg 57 \n\n\n\nmit: Alexa und Heike \n\n\n\nWir sind unermüdlich im Kampf gegen die Kippenflut! Mach mit beim Kippen-CleanUp im Bremer Viertel! \n\n\n\nMelde dich zwei Tage vorher zum CleanUp an\, wenn wir dir eine Müllzange und einen Eimer zum CleanUp mitbringen sollen. Oder trete unserer Viertel-WhatsApp-Gruppe bei. Dann bist du immer auf dem Laufenden. Gern kannst du auch spontan beim CleanUp mitmachen. Dann bring am besten eigene Handschuhe oder eine alte Würstchenzange mit\, die fürs Müllsammeln umfunktioniert werden darf. Ist besser für den Rücken! \n\n\n\nZusammen setzen wir ein Zeichen gegen das lästige Kippenschnippen und machen Raucher:innen mit unserer Aktion darauf aufmerksam\, dass Zigarettenstummel nicht auf die Straße gehören. Denn eine einzige Ziagrette kann bereits 1000 Liter Wasser vergiften und damit den Lebensraum von Fischen\, Vögeln und anderen Tieren gefährden. Taschenascher sind die Lösung für unterwegs! \n\n\n\nBei unseren CleanUps lernst du mehr über Umweltschutz und leistest einen sinnvollen Beitrag zur Bewahrung der Natur. Bei Fragen schreib uns eine Mail. \n\n\n\nkontakt(at)cuyc.de
URL:https://cuyc.de/event/kippen-cleanup-im-viertel-26-04-27/
LOCATION:Spielwaren Wichlein\, Ostertorsteinweg 57\, Bremen
CATEGORIES:clean up
ATTACH;FMTTYPE=image/jpeg:https://cuyc.de/wp-content/uploads/2025/05/IMG-20250505-WA0008.jpg
END:VEVENT
BEGIN:VEVENT
DTSTART;TZID=Europe/Berlin:20260430T160000
DTEND;TZID=Europe/Berlin:20260430T180000
DTSTAMP:20260425T044037
CREATED:20260222T171228Z
LAST-MODIFIED:20260223T165516Z
UID:4057-1777564800-1777572000@cuyc.de
SUMMARY:Walle CleanUp mit Frosch
DESCRIPTION:Der Umwelt-Frosch ist los und lädt euch zum Kippensammeln auf dem Spielplatz im Waller Park ein! Startpunkt ist um 16 Uhr an der Ecke Vegesacker/Auricher Straße. Wenn ihr Lust habt\, kommt auch in Verkleidung. So können wir noch mehr Aufmerksamkeit auf giftige Zigarettenstummel und Müll in der Stadt lenken. Unsere Botschaft: Nicht mein Müll\, aber mein Planet! \n\n\n\nSammelausrüstung bringt Heike für Freiwillige mit. Auch Taschenaschenbecher verteilen wir bei unseren CleanUps. Auch wenn ihr nur eine halbe Stunde Zeit habt\, seid ihr herzlich willkommen.  \n\n\n\nMehr Infos unter kontakt@cuyc.de
URL:https://cuyc.de/event/walle-cleanup-mit-frosch-26-04-30/
LOCATION:Walle CleanUp\, Vegesacker Straße / Ecke Auricher Straße\, Bremen\, Deutschland
CATEGORIES:clean up
ATTACH;FMTTYPE=image/png:https://cuyc.de/wp-content/uploads/2024/08/Statements-frosch.png
END:VEVENT
END:VCALENDAR