BEGIN:VCALENDAR
VERSION:2.0
PRODID:-//cuyc - ECPv6.15.20//NONSGML v1.0//EN
CALSCALE:GREGORIAN
METHOD:PUBLISH
X-ORIGINAL-URL:https://cuyc.de
X-WR-CALDESC:Veranstaltungen für cuyc
REFRESH-INTERVAL;VALUE=DURATION:PT1H
X-Robots-Tag:noindex
X-PUBLISHED-TTL:PT1H
BEGIN:VTIMEZONE
TZID:Europe/Berlin
BEGIN:DAYLIGHT
TZOFFSETFROM:+0100
TZOFFSETTO:+0200
TZNAME:CEST
DTSTART:20250330T010000
END:DAYLIGHT
BEGIN:STANDARD
TZOFFSETFROM:+0200
TZOFFSETTO:+0100
TZNAME:CET
DTSTART:20251026T010000
END:STANDARD
BEGIN:DAYLIGHT
TZOFFSETFROM:+0100
TZOFFSETTO:+0200
TZNAME:CEST
DTSTART:20260329T010000
END:DAYLIGHT
BEGIN:STANDARD
TZOFFSETFROM:+0200
TZOFFSETTO:+0100
TZNAME:CET
DTSTART:20261025T010000
END:STANDARD
BEGIN:DAYLIGHT
TZOFFSETFROM:+0100
TZOFFSETTO:+0200
TZNAME:CEST
DTSTART:20270328T010000
END:DAYLIGHT
BEGIN:STANDARD
TZOFFSETFROM:+0200
TZOFFSETTO:+0100
TZNAME:CET
DTSTART:20271031T010000
END:STANDARD
END:VTIMEZONE
BEGIN:VEVENT
DTSTART;TZID=Europe/Berlin:20260718T120000
DTEND;TZID=Europe/Berlin:20260718T150000
DTSTAMP:20260425T134048
CREATED:20260225T222805Z
LAST-MODIFIED:20260301T165503Z
UID:4071-1784376000-1784386800@cuyc.de
SUMMARY:CleanUp Am Dobben
DESCRIPTION:Treffpunkt: VeganLand\, Am Dobben 129Organisation: Katrin und Andrea \n\n\n\nAlle zwei Monate laden wir samstags zum CleanUp Am Dobben ein. Denn an dieser großen Kreuzung in der City sammelt sich jede Menge Müll an. Geplatzte Gelbe Säcke\, Verpackungsmüll von den Fast Food Restaurants in der Umgebung\, Müll\, der einfach aus dem Autofenster geworfen wird und Hunderte Zigarettenkippen … Rund um die Haltestelle Am Dobben sowie in den Straßen Außer der Schleifmühle und Bismarckstraße werden unsere Sammeleimer schnell voll! Freiwillige sind herzlich willkommen! \n\n\n\nUnsere Stadtteilpatinnen Katrin und Andrea bringen Müllzangen\, Handschuhe und Mülleimer für euch mit\, gesponsert von der Bremer Stadtreinigung. Nach einer kurzen Einweisung strömen wir aus und sammeln wilden Müll ein. An der Haltestelle Am Dobben verteilen wir Gratis-Taschenaschenbecher an Raucherinnen und Raucher. Wir bieten die Lösung\, bevor die Zigarettenkippe auf dem Boden landet.  \n\n\n\nMit unseren grünen CleanUpYourCity-Warnwesten sind wir gut sichtbar\, sodass wir ein deutliches Zeichen für mehr Umweltschutz setzen. Gerne können sich auch umliegende Geschäfte an der Aktion beteiligen. \n\n\n\nIm Anschluss an das CleanUp (gegen 14 Uhr) wollen wir zusammen Am Dobben im VeganLand Mittag essen gehen. Denn Umwelt- und Klimaschutz fängt auf dem Teller an. Beim gemeinsamen Essen können wir entspannt klönen und uns besser kennenlernen. Wer zum ersten Mal beim CleanUp mitmacht\, wird vom Verein zum Essen eingeladen. \n\n\n\nAnmeldungen bitte bis zum 15.07.2026 per Mail unter kontakt@cuyc.de. Wir freuen uns auf euch!
URL:https://cuyc.de/event/cleanup-am-dobben-2026-07-18/
LOCATION:CleanUp Am Dobben\, Am Dobben 129\, Bremen\, Germany
ATTACH;FMTTYPE=image/png:https://cuyc.de/wp-content/uploads/2024/09/stadtmusikanten2seilieb.png
END:VEVENT
END:VCALENDAR