BEGIN:VCALENDAR
VERSION:2.0
PRODID:-//cuyc - ECPv6.15.20//NONSGML v1.0//EN
CALSCALE:GREGORIAN
METHOD:PUBLISH
X-ORIGINAL-URL:https://cuyc.de
X-WR-CALDESC:Veranstaltungen für cuyc
REFRESH-INTERVAL;VALUE=DURATION:PT1H
X-Robots-Tag:noindex
X-PUBLISHED-TTL:PT1H
BEGIN:VTIMEZONE
TZID:Europe/Berlin
BEGIN:DAYLIGHT
TZOFFSETFROM:+0100
TZOFFSETTO:+0200
TZNAME:CEST
DTSTART:20250330T010000
END:DAYLIGHT
BEGIN:STANDARD
TZOFFSETFROM:+0200
TZOFFSETTO:+0100
TZNAME:CET
DTSTART:20251026T010000
END:STANDARD
BEGIN:DAYLIGHT
TZOFFSETFROM:+0100
TZOFFSETTO:+0200
TZNAME:CEST
DTSTART:20260329T010000
END:DAYLIGHT
BEGIN:STANDARD
TZOFFSETFROM:+0200
TZOFFSETTO:+0100
TZNAME:CET
DTSTART:20261025T010000
END:STANDARD
BEGIN:DAYLIGHT
TZOFFSETFROM:+0100
TZOFFSETTO:+0200
TZNAME:CEST
DTSTART:20270328T010000
END:DAYLIGHT
BEGIN:STANDARD
TZOFFSETFROM:+0200
TZOFFSETTO:+0100
TZNAME:CET
DTSTART:20271031T010000
END:STANDARD
END:VTIMEZONE
BEGIN:VEVENT
DTSTART;TZID=Europe/Berlin:20260503T110000
DTEND;TZID=Europe/Berlin:20260503T130000
DTSTAMP:20260425T055237
CREATED:20260324T121959Z
LAST-MODIFIED:20260324T122048Z
UID:4100-1777806000-1777813200@cuyc.de
SUMMARY:Inklusives Huckelriede CleanUp
DESCRIPTION:Start: 11 Uhr am Quartierszentrum Huckelriede\,mit Florian\, Marie M. und dem Martinsclub \n\n\n\nDieses monatliche CleanUp findet in Kooperation mit dem Martinsclub Bremen statt. Ein explizit inklusives CleanUp! Wir möchten damit vor allem Menschen mit Behinderung ermutigen\, bei unseren Müllsammelaktionen mitzumachen. Denn jede/r kann was tun\, um die Welt ein bisschen schöner und lebenswerter zu machen! Gemeinsam können wir Vorbild sein und anderen Menschen zeigen\, das Müll nicht auf die Straße gehört! Mach mit! \n\n\n\nMüllsäcke\, Zangen und Handschuhe stellen unsere Stadtteilpat:innen\, dank der Bremer Stadtreinigung\, zur Verfügung. Jede:r kann so lange mitmachen\, wie er oder sie mag. Auch Tempo spielt keine Rolle. Wir wollen\, dass alle Spaß an der Sache haben.
URL:https://cuyc.de/event/inklusives-huckelriede-cleanup-2026-04-12-copy/
LOCATION:Quartierszentrum Huckelriede\, Niedersachsendamm 20a\, Niedersachsendamm 20a\, Bremen
CATEGORIES:clean up
ATTACH;FMTTYPE=image/jpeg:https://cuyc.de/wp-content/uploads/2024/12/CleanUpYourCity-_Florian_Stadtteilpate_Huckelriede_web-scaled.jpg
END:VEVENT
BEGIN:VEVENT
DTSTART;TZID=Europe/Berlin:20260510T120000
DTEND;TZID=Europe/Berlin:20260510T140000
DTSTAMP:20260425T055237
CREATED:20260324T123112Z
LAST-MODIFIED:20260324T123227Z
UID:4111-1778414400-1778421600@cuyc.de
SUMMARY:Schwachhausen CleanUp
DESCRIPTION:Start: 12 Uhr am Benqueplatz mit Lina und Marie \n\n\n\nWir treffen uns mittags am Benquemarkt und sammeln als Erstes die Zigarettenstummel auf\, die rund um die Sitzbänke beim Marktplatz liegen. Danach geht’s mit chilliger Musik im Bollerwagen weiter durch Schwachhausen auf der Suche nach Müll. Denn wilden Müll und Kippen gibt’s in jedem Stadtteil! Helfende Hände sind immer willkommen! \n\n\n\nMeistens belohnen wir uns nach dem CleanUp mit Kaffee\, Eis oder Limo und klönen noch eine Runde. Eine gute Gelegenheit\, neue Leute kennenzulernen und sich zu vernetzen.  \n\n\n\nÜbrigens suchen wir zusätzlich Stadteilpat:innen und Freiwillige für ein weiteres CleanUp-Team in Horn. Kommt gern zum Schwachhausen-Termin\, wenn ihr Lust hast\, etwas in Horn aufzubauen. Wir freuen uns auf euch!
URL:https://cuyc.de/event/schwachhausen-cleanup-2026-05-10/
LOCATION:Benqueplatz\, Benqueplatz\, Bremen
CATEGORIES:clean up
ATTACH;FMTTYPE=image/jpeg:https://cuyc.de/wp-content/uploads/2024/06/Klein-Mittel-IMG_8246.jpeg
ORGANIZER;CN="Lina und Marie":MAILTO:kontakt@cuyc.de
END:VEVENT
BEGIN:VEVENT
DTSTART;TZID=Europe/Berlin:20260512T180000
DTEND;TZID=Europe/Berlin:20260512T190000
DTSTAMP:20260425T055237
CREATED:20260406T133216Z
LAST-MODIFIED:20260406T133330Z
UID:4132-1778608800-1778612400@cuyc.de
SUMMARY:Vegesack CleanUp
DESCRIPTION:Start: 18:00 Uhr am Vegesacker Bahnhof\, beim ehemaligen „Muddys“mit Katja\, Maren und Heike H. \n\n\n\nAb sofort findet in Vegesack immer am zweiten Dienstag im Monat am frühen Abend eine Müllsammelaktion statt. Perfekt für alle\, die nach Feierabend noch was Gutes für ihre Umwelt und ihren  Stadtteil tun wollen.  \n\n\n\nDer Stadtteil Vegesack liegt direkt an der Weser. Umso wichtiger\, dass wilder Müll eingesammelt wird\, bevor er in die Weser und letztendlich ins Meer treibt. Unser Team Bremen-Nord trifft sich zum freiwilligen Müllsammeln. Helfende Hände sind herzlich willkommen! \n\n\n\nSammelausrüstung bringen unsere Stadtteilpatinnen für euch mit. Zusammen können wir ein Zeichen setzen und Passanten über die Gefahr aufklären\, die von Plastik und Zigarettenstummeln in Gewässern ausgeht. Lasst uns zusammen gutes Vorbild sein! \n\n\n\nEine Anmeldung ist nicht erforderlich\, aber auch unsere Stadtteilpatinnen freuen sich\, wenn sie wissen\, wer zum CleanUp kommt. Schreib uns gern eine Nachricht\, wenn du dich mit unseren Stadtteilpatinnen vernetzen willst oder vorab Fragen hast. Übrigens: Bei Sturm und Starkregen fällt das CleanUp aus.
URL:https://cuyc.de/event/vegesack-cleanup-2026-05-12/
LOCATION:Vegesacker Bahnhof\, Vegesacker Bahnhof\, Bremen
ATTACH;FMTTYPE=image/jpeg:https://cuyc.de/wp-content/uploads/2024/09/316409B6-9F41-4897-9D4C-1ECE88B463BE.jpg
ORGANIZER;CN="Katja%2C Maren und Heike H.":MAILTO:kontakt@cuyc.de
END:VEVENT
BEGIN:VEVENT
DTSTART;TZID=Europe/Berlin:20260513T173000
DTEND;TZID=Europe/Berlin:20260513T190000
DTSTAMP:20260425T055237
CREATED:20260324T122135Z
LAST-MODIFIED:20260324T122325Z
UID:4102-1778693400-1778698800@cuyc.de
SUMMARY:Viertel CleanUp
DESCRIPTION:Treffpunkt: Coffee Corner\, Ostertorsteinweg 1/Sielwall Kreuzung \n\n\n\nmit: Andrea … \n\n\n\nWir sind unermüdlich im Kampf gegen die Kippenflut! Wer Zeit und Lust hat\, kann uns gern unterstützen und mit Zigarettenstummel und anderen Müll im Bremer Viertel aufsammeln.  \n\n\n\nMüllzangen\, Eimer und Handschuhe bringen wir mit. \n\n\n\nZusammen setzten wir ein Zeichen gegen das lästige Kippenschnippen und machen Raucher durch unsere Aktion freundlich darauf aufmerksam\, dass Kippen nicht auf die Straße gehören. Denn eine einzige Kippe kann bereits 1000 Liter Wasser vergiften. Flüsse\, Teiche\, Grundwasser und Pfützen\, aus denen Tiere trinken\, werden belastet. Taschenascher sind die Lösung für unterwegs! \n\n\n\nKontakt@cuyc.de
URL:https://cuyc.de/event/viertel-cleanup-26-05-13/
LOCATION:Coffee Corner Bremen\, Ostertorsteinweg 1\, Bremen\, Bremen\, Germany
CATEGORIES:clean up
ATTACH;FMTTYPE=image/jpeg:https://cuyc.de/wp-content/uploads/2025/04/17454967339097964027027046629834.jpg
END:VEVENT
BEGIN:VEVENT
DTSTART;TZID=Europe/Berlin:20260516T120000
DTEND;TZID=Europe/Berlin:20260516T150000
DTSTAMP:20260425T055237
CREATED:20260225T222549Z
LAST-MODIFIED:20260419T170519Z
UID:4069-1778932800-1778943600@cuyc.de
SUMMARY:Ehrentag-CleanUp Am Dobben
DESCRIPTION:Treffpunkt: VeganLand\, Am Dobben 129Organisation: Katrin und Andrea \n\n\n\nAlle zwei Monate laden wir samstags zum CleanUp Am Dobben ein. Genauso auch heute am Ehrentag!  \n\n\n\nAn der großen Kreuzung in der City – am Dobben – sammelt sich jede Menge Müll an. Geplatzte Gelbe Säcke\, Verpackungsmüll von den Fast Food Restaurants in der Umgebung\, Müll\, der einfach aus dem Autofenster geworfen wird und Hunderte Zigarettenkippen … Rund um die Haltestelle Am Dobben sowie in den Straßen Außer der Schleifmühle und Bismarckstraße werden unsere Sammeleimer schnell voll! Freiwillige sind herzlich willkommen! \n\n\n\nUnsere Stadtteilpatinnen Katrin und Andrea bringen Müllzangen\, Handschuhe und Mülleimer für euch mit\, gesponsert von der Bremer Stadtreinigung. Nach einer kurzen Einweisung strömen wir aus und sammeln wilden Müll ein. An der Haltestelle Am Dobben verteilen wir Gratis-Taschenaschenbecher an Raucherinnen und Raucher. Wir bieten die Lösung\, bevor die Zigarettenkippe auf dem Boden landet.  \n\n\n\nMit unseren grünen CleanUpYourCity-Warnwesten sind wir gut sichtbar\, sodass wir ein deutliches Zeichen für mehr Umweltschutz setzen. Gerne können sich auch umliegende Geschäfte an der Aktion beteiligen. \n\n\n\nIm Anschluss an das CleanUp (gegen 14 Uhr) wollen wir zusammen Am Dobben im VeganLand Mittag essen gehen. Denn Umwelt- und Klimaschutz fängt auf dem Teller an. Beim gemeinsamen Essen können wir entspannt klönen und uns besser kennenlernen. Wer zum ersten Mal beim CleanUp mitmacht\, wird vom Verein zum Essen eingeladen. \n\n\n\nAnmeldungen bitte bis zum 13.05.2026 per Mail unter kontakt@cuyc.de. Wir freuen uns auf euch!
URL:https://cuyc.de/event/ehrentag-cleanup-am-dobben-2026-05-16/
LOCATION:CleanUp Am Dobben\, Am Dobben 129\, Bremen\, Germany
ATTACH;FMTTYPE=image/png:https://cuyc.de/wp-content/uploads/2024/09/stadtmusikanten2seilieb.png
END:VEVENT
BEGIN:VEVENT
DTSTART;TZID=Europe/Berlin:20260527T173000
DTEND;TZID=Europe/Berlin:20260527T190000
DTSTAMP:20260425T055237
CREATED:20260324T122359Z
LAST-MODIFIED:20260324T122502Z
UID:4104-1779903000-1779908400@cuyc.de
SUMMARY:Viertel CleanUp
DESCRIPTION:Treffpunkt: Coffee Corner\, Ostertorsteinweg 1/Sielwall Kreuzung \n\n\n\nmit: Andrea … \n\n\n\nWir sind unermüdlich im Kampf gegen die Kippenflut! Wer Zeit und Lust hat\, kann uns gern unterstützen und mit Zigarettenstummel und anderen Müll im Bremer Viertel aufsammeln.  \n\n\n\nMüllzangen\, Eimer und Handschuhe bringen wir mit. \n\n\n\nZusammen setzten wir ein Zeichen gegen das lästige Kippenschnippen und machen Raucher durch unsere Aktion freundlich darauf aufmerksam\, dass Kippen nicht auf die Straße gehören. Denn eine einzige Kippe kann bereits 1000 Liter Wasser vergiften. Flüsse\, Teiche\, Grundwasser und Pfützen\, aus denen Tiere trinken\, werden belastet. Taschenascher sind die Lösung für unterwegs! \n\n\n\nKontakt@cuyc.de
URL:https://cuyc.de/event/viertel-cleanup-26-05-27/
LOCATION:Coffee Corner Bremen\, Ostertorsteinweg 1\, Bremen\, Bremen\, Germany
CATEGORIES:clean up
ATTACH;FMTTYPE=image/jpeg:https://cuyc.de/wp-content/uploads/2025/04/17454967339097964027027046629834.jpg
END:VEVENT
BEGIN:VEVENT
DTSTART;TZID=Europe/Berlin:20260531T110000
DTEND;TZID=Europe/Berlin:20260531T130000
DTSTAMP:20260425T055237
CREATED:20260324T162855Z
LAST-MODIFIED:20260324T163307Z
UID:4116-1780225200-1780232400@cuyc.de
SUMMARY:Neustadt CleanUp
DESCRIPTION:Start: 11 Uhr / Delmemarkt\, Pappelstraße / mit Nina und Florian \n\n\n\nNicht unser Müll\, aber unser Planet!  \n\n\n\nWir sammeln gemeinsam Müll\, für eine saubere und l(i)ebenswerte Neustadt.
URL:https://cuyc.de/event/neustadt-cleanup-2026-05-31/
LOCATION:Delmemarkt\, Delmestraße\, Bremen
ATTACH;FMTTYPE=image/jpeg:https://cuyc.de/wp-content/uploads/2025/06/Kantstr.-Fr.-Bergmann-1-scaled.jpg
ORGANIZER;CN="Nina und Florain":MAILTO:kontakt@cuyc.de
END:VEVENT
END:VCALENDAR