BEGIN:VCALENDAR
VERSION:2.0
PRODID:-//cuyc - ECPv6.15.20//NONSGML v1.0//EN
CALSCALE:GREGORIAN
METHOD:PUBLISH
X-ORIGINAL-URL:https://cuyc.de
X-WR-CALDESC:Veranstaltungen für cuyc
REFRESH-INTERVAL;VALUE=DURATION:PT1H
X-Robots-Tag:noindex
X-PUBLISHED-TTL:PT1H
BEGIN:VTIMEZONE
TZID:Europe/Berlin
BEGIN:DAYLIGHT
TZOFFSETFROM:+0100
TZOFFSETTO:+0200
TZNAME:CEST
DTSTART:20250330T010000
END:DAYLIGHT
BEGIN:STANDARD
TZOFFSETFROM:+0200
TZOFFSETTO:+0100
TZNAME:CET
DTSTART:20251026T010000
END:STANDARD
BEGIN:DAYLIGHT
TZOFFSETFROM:+0100
TZOFFSETTO:+0200
TZNAME:CEST
DTSTART:20260329T010000
END:DAYLIGHT
BEGIN:STANDARD
TZOFFSETFROM:+0200
TZOFFSETTO:+0100
TZNAME:CET
DTSTART:20261025T010000
END:STANDARD
BEGIN:DAYLIGHT
TZOFFSETFROM:+0100
TZOFFSETTO:+0200
TZNAME:CEST
DTSTART:20270328T010000
END:DAYLIGHT
BEGIN:STANDARD
TZOFFSETFROM:+0200
TZOFFSETTO:+0100
TZNAME:CET
DTSTART:20271031T010000
END:STANDARD
END:VTIMEZONE
BEGIN:VEVENT
DTSTART;TZID=Europe/Berlin:20260423T160000
DTEND;TZID=Europe/Berlin:20260423T180000
DTSTAMP:20260425T055740
CREATED:20260222T163525Z
LAST-MODIFIED:20260222T163813Z
UID:4027-1776960000-1776967200@cuyc.de
SUMMARY:Walle CleanUp
DESCRIPTION:Heike lädt in diesem Monat donnerstags zum CleanUp in Walle ein. Start ist immer an der Ecke Vegesacker Straße / Auricher Straße. Im April wird die Lange Reihe geputzt! Sammelausrüstung erhalten Freiwillige beim Treffpunkt. Anschließend gibt es Kaffee und Kuchen. \n\n\n\nAuch wenn du nur eine halbe Stunde Zeit für ein CleanUp hast\, bist du herzlich willkommen zu unseren Müllsammelaktionen. Gemeinsam sind wir Vorbild und zeigen\, wo der Müll hingehört. Nicht auf die Straße\, sondern in den Müllsack!  \n\n\n\nGerne kannst du auch gesammelte Kronkorken abgeben. Den Erlös vom Schrotthändler spenden wir für an „ein sicherer Hafen“\, einen Überlebenshof für gerettete Tiere. \n\n\n\nSchreib uns gern an\, wenn du dich mit unseren Stadtteilpaten in Walle vernetzen magst oder ein weiteres CleanUp-Team in Walle aufbauen willst. Wir unterstützen gern dabei\, schließlich gibt’s genug Müll für alle. 😉 \n\n\n\nkontakt@cuyc.de
URL:https://cuyc.de/event/walle-cleanup-2026-04-23/
LOCATION:Walle CleanUp\, Vegesacker Straße / Ecke Auricher Straße\, Bremen\, Deutschland
CATEGORIES:clean up
ATTACH;FMTTYPE=image/jpeg:https://cuyc.de/wp-content/uploads/2024/10/heike_gesammelte_kippen.jpg
END:VEVENT
END:VCALENDAR