BEGIN:VCALENDAR
VERSION:2.0
PRODID:-//cuyc - ECPv6.15.20//NONSGML v1.0//EN
CALSCALE:GREGORIAN
METHOD:PUBLISH
X-ORIGINAL-URL:https://cuyc.de
X-WR-CALDESC:Veranstaltungen für cuyc
REFRESH-INTERVAL;VALUE=DURATION:PT1H
X-Robots-Tag:noindex
X-PUBLISHED-TTL:PT1H
BEGIN:VTIMEZONE
TZID:Europe/Berlin
BEGIN:DAYLIGHT
TZOFFSETFROM:+0100
TZOFFSETTO:+0200
TZNAME:CEST
DTSTART:20250330T010000
END:DAYLIGHT
BEGIN:STANDARD
TZOFFSETFROM:+0200
TZOFFSETTO:+0100
TZNAME:CET
DTSTART:20251026T010000
END:STANDARD
BEGIN:DAYLIGHT
TZOFFSETFROM:+0100
TZOFFSETTO:+0200
TZNAME:CEST
DTSTART:20260329T010000
END:DAYLIGHT
BEGIN:STANDARD
TZOFFSETFROM:+0200
TZOFFSETTO:+0100
TZNAME:CET
DTSTART:20261025T010000
END:STANDARD
BEGIN:DAYLIGHT
TZOFFSETFROM:+0100
TZOFFSETTO:+0200
TZNAME:CEST
DTSTART:20270328T010000
END:DAYLIGHT
BEGIN:STANDARD
TZOFFSETFROM:+0200
TZOFFSETTO:+0100
TZNAME:CET
DTSTART:20271031T010000
END:STANDARD
END:VTIMEZONE
BEGIN:VEVENT
DTSTART;TZID=Europe/Berlin:20260413T110000
DTEND;TZID=Europe/Berlin:20260413T130000
DTSTAMP:20260425T055155
CREATED:20260222T170316Z
LAST-MODIFIED:20260413T061628Z
UID:4047-1776078000-1776085200@cuyc.de
SUMMARY:Fällt aus: Bremer Osterwiesen-Kippen- CleanUp
DESCRIPTION:Treffpunkt: Bürgerweide/Bahnhof Hinterausgang \n\n\n\nAchtung! Die Veranstaltung fällt heute und für den Rest der Woche aus!
URL:https://cuyc.de/event/bremer-osterwiesen-kippen-cleanup-26-04-13/
LOCATION:Bremen Hauptbahnhof\, Ausgang Bürgerweide\, Bremen
ATTACH;FMTTYPE=image/jpeg:https://cuyc.de/wp-content/uploads/2025/09/Kippen_CleanUp-scaled.jpg
END:VEVENT
END:VCALENDAR