BEGIN:VCALENDAR
VERSION:2.0
PRODID:-//cuyc - ECPv6.15.20//NONSGML v1.0//EN
CALSCALE:GREGORIAN
METHOD:PUBLISH
X-ORIGINAL-URL:https://cuyc.de
X-WR-CALDESC:Veranstaltungen für cuyc
REFRESH-INTERVAL;VALUE=DURATION:PT1H
X-Robots-Tag:noindex
X-PUBLISHED-TTL:PT1H
BEGIN:VTIMEZONE
TZID:Europe/Berlin
BEGIN:DAYLIGHT
TZOFFSETFROM:+0100
TZOFFSETTO:+0200
TZNAME:CEST
DTSTART:20250330T010000
END:DAYLIGHT
BEGIN:STANDARD
TZOFFSETFROM:+0200
TZOFFSETTO:+0100
TZNAME:CET
DTSTART:20251026T010000
END:STANDARD
BEGIN:DAYLIGHT
TZOFFSETFROM:+0100
TZOFFSETTO:+0200
TZNAME:CEST
DTSTART:20260329T010000
END:DAYLIGHT
BEGIN:STANDARD
TZOFFSETFROM:+0200
TZOFFSETTO:+0100
TZNAME:CET
DTSTART:20261025T010000
END:STANDARD
BEGIN:DAYLIGHT
TZOFFSETFROM:+0100
TZOFFSETTO:+0200
TZNAME:CEST
DTSTART:20270328T010000
END:DAYLIGHT
BEGIN:STANDARD
TZOFFSETFROM:+0200
TZOFFSETTO:+0100
TZNAME:CET
DTSTART:20271031T010000
END:STANDARD
END:VTIMEZONE
BEGIN:VEVENT
DTSTART;TZID=Europe/Berlin:20260124T120000
DTEND;TZID=Europe/Berlin:20260124T130000
DTSTAMP:20260425T191242
CREATED:20251229T160620Z
LAST-MODIFIED:20260108T202609Z
UID:3889-1769256000-1769259600@cuyc.de
SUMMARY:Grohn CleanUp
DESCRIPTION:Start: 12 Uhr beim Netto\, Friedrich-Humbert-Straße 125 mit Katja\, Maren und Heike H. \n\n\n\nWohnst du in Grohn und willst etwas Gutes für deinen Stadtteil tun? Ist dir Umweltschutz wichtig? Oder hast du einfach Lust\, ganz unkompliziert nette Leute kennenzulernen? Dann mach mit beim CleanUp in Grohn! \n\n\n\nUnser Team Nord ist bestens ausgestattet mit Müllsäcken\, Handschuhen und Müllzangen von der Bremer Stadtreinigung. Du brauchst also gar nichts mitbringen außer gute Laune und eine Portion Tatendrang. \n\n\n\nWir freuen uns über Unterstützung! Mach bei den CleanUps mit\, so lange und sooft du magst. Falls du Interesse hast\, CleanUps in anderen Stadtteilen im Bremer Norden zu starten\, melde dich gern bei unseren Stadtteilpatinnen oder schreib an kontakt@cuyc.de. Gemeinsam bauen wir unser Netzwerk aus\, damit wir noch mehr öffentliche Sammelaktionen anbieten können.
URL:https://cuyc.de/event/grohn-cleanup-2026-01-24/
LOCATION:Grohn CleanUp\, Netto\, Bremen Grohn
ORGANIZER;CN="Katja%2C Maren und Heike H.":MAILTO:kontakt@cuyc.de
END:VEVENT
END:VCALENDAR